Workbook
Name Average: 'Data for Rough Cost'!$D$111:$D$122
Name Average1: 'Data for Rough Cost'!$DK$2:$DK$5
Name Average10: 'Data for Rough Cost'!$DT$2:$DT$5
Name Average11: 'Data for Rough Cost'!$DU$2:$DU$3
Name Average12: 'Data for Rough Cost'!$DV$2:$DV$3
Name Average2: 'Data for Rough Cost'!$DL$2:$DL$5
Name Average3: 'Data for Rough Cost'!$DM$2:$DM$5
Name Average4: 'Data for Rough Cost'!$DN$2:$DN$5
Name Average5: 'Data for Rough Cost'!$DO$2:$DO$5
Name Average6: 'Data for Rough Cost'!$DP$2:$DP$5
Name Average7: 'Data for Rough Cost'!$DQ$2:$DQ$5
Name Average8: 'Data for Rough Cost'!$DR$2:$DR$5
Name Average9: 'Data for Rough Cost'!$DS$2:$DS$5
Name Categories: 'Data for Rough Cost'!$A$2:$A$3
Name Commercial: 'Data for Rough Cost'!$B$2
Name Custom: 'Data for Rough Cost'!$D$123:$D$132
Name Custom1: 'Data for Rough Cost'!$DW$2:$DW$5
Name Custom10: 'Data for Rough Cost'!$EF$2:$EF$5
Name Custom2: 'Data for Rough Cost'!$DX$2:$DX$5
Name Custom3: 'Data for Rough Cost'!$DY$2:$DY$5
Name Custom4: 'Data for Rough Cost'!$DZ$2:$DZ$5
Name Custom5: 'Data for Rough Cost'!$EA$2:$EA$5
Name Custom6: 'Data for Rough Cost'!$EB$2:$EB$5
Name Custom7: 'Data for Rough Cost'!$EC$2:$EC$5
Name Custom8: 'Data for Rough Cost'!$ED$2:$ED$5
Name Custom9: 'Data for Rough Cost'!$EE$2:$EE$5
Name Default: 'Data for Rough Cost'!$D$2:$D$102
Name Default1: 'Data for Rough Cost'!$F$2:$F$7
Name Default10: 'Data for Rough Cost'!$O$2:$O$7
Name Default100: 'Data for Rough Cost'!$DA$2:$DA$7
Name Default101: 'Data for Rough Cost'!$DB$2:$DB$7
Name Default11: 'Data for Rough Cost'!$P$2:$P$7
Name Default12: 'Data for Rough Cost'!$Q$2:$Q$7
Name Default13: 'Data for Rough Cost'!$R$2:$R$7
Name Default14: 'Data for Rough Cost'!$S$2:$S$7
Name Default15: 'Data for Rough Cost'!$T$2:$T$7
Name Default16: 'Data for Rough Cost'!$U$2:$U$7
Name Default17: 'Data for Rough Cost'!$V$2:$V$7
Name Default18: 'Data for Rough Cost'!$W$2:$W$7
Name Default19: 'Data for Rough Cost'!$X$2:$X$7
Name Default2: 'Data for Rough Cost'!$G$2:$G$7
Name Default20: 'Data for Rough Cost'!$Y$2:$Y$7
Name Default21: 'Data for Rough Cost'!$Z$2:$Z$7
Name Default22: 'Data for Rough Cost'!$AA$2:$AA$7
Name Default23: 'Data for Rough Cost'!$AB$2:$AB$7
Name Default24: 'Data for Rough Cost'!$AC$2:$AC$7
Name Default25: 'Data for Rough Cost'!$AD$2:$AD$7
Name Default26: 'Data for Rough Cost'!$AE$2:$AE$7
Name Default27: 'Data for Rough Cost'!$AF$2:$AF$7
Name Default28: 'Data for Rough Cost'!$AG$2:$AG$7
Name Default29: 'Data for Rough Cost'!$AH$2:$AH$7
Name Default3: 'Data for Rough Cost'!$H$2:$H$7
Name Default30: 'Data for Rough Cost'!$AI$2:$AI$7
Name Default31: 'Data for Rough Cost'!$AJ$2:$AJ$7
Name Default32: 'Data for Rough Cost'!$AK$2:$AK$7
Name Default33: 'Data for Rough Cost'!$AL$2:$AL$7
Name Default34: 'Data for Rough Cost'!$AM$2:$AM$7
Name Default35: 'Data for Rough Cost'!$AN$2:$AN$7
Name Default36: 'Data for Rough Cost'!$AO$2:$AO$7
Name Default37: 'Data for Rough Cost'!$AP$2:$AP$7

Sheet BASE BID
A1: ITEM # | B1: REF. SHEET | C1: DETAIL | D1: CSI SECT | E1: Sub Contractor | F1: DESCRIPTION | G1: QTY. | H1: WASTAGE | I1: QTY WITH WASTAGE | J1: UNIT | K1: UNIT LABOR HOURS | L1: TOTAL LABOR HOURS | M1: PER HOUR LABOR RATE | N1: TOTAL LABOR COST | O1: UNIT MATERIAL COST | P1: TOTAL MATERIAL COST | Q1: ITEM COST | R1: TRADE COST | S1: UNIT ITEM COST WITH MARKUPS | T1: TOTAL ITEM COST WITH MARKUPS
A2: Estimate of Materials Quantities and Cost of Construction
B3: CLICK HERE TO GO BACK TO COST SUMMARY
D4: Sub-Total | E4: =Q116 -> 189392.05 | J4: Date: | K4: 45929
C5: Material Sales Tax | D5: 0.089 | E5: =P116*D5 -> 6266.7896 | F5: (Adjust the percentage for Material tax as required) | J5: Project: | K5: Replacement Of The Lexington Avenue Retaining Wall
C6: Overhead & Profit / Inflation (Material) | D6: 0.1 | E6: =P116*D6 -> 7041.3367 | F6: (Adjust the percentage for Overhead & Profit as required) | J6: Project Location: | K6: City OF Norwalk 11, 19 & 21 Snowden Street
C7: Overhead & Profit (Labor) | D7: 0.14 | E7: =N116*D7 -> 16657.016 | F7: (Adjust the percentage for Overhead & Profit as required) | J7: Project and Wage Type: | K7: Private (Non-Prevailing wage)
C8: Bond Fee | D8: 0.015 | E8: =(E4+E5+E6+E7)*D8 -> 3290.3579 | F8: (Adjust the percentage for Bond Fee as required)
D9: Total Bid | E9: =E4+E5+E6+E7+E8 -> 222647.55 | J9: Gross Internal Area of Structure (SF)
J10: Covered Area of Structure (SF)
C11: Material Wastage 1 | D11: 0 | E11: ( for Quantities in Each & LS) | J11: No. of Units
C12: Material Wastage 2 | D12: 0.05 | E12: ( for Quantities in LF, SF, SY, CY, LBS, TONS) | J12: No. of Floors and Overall Height
B13: (Changing the wastage percentage here will update the wastage for whole tab) | J13: Hardscaping Area (SF) | K13: 0
J14: Soft scaping Area (SF) | K14: 0
B15: To change hourly rates for any trade please go to "Hourly Rates" Tab
A17: ITEM # | B17: REF. SHEET | C17: DETAIL | D17: CSI SECT | E17: Sub Contractor | F17: DESCRIPTION | G17: QTY. | H17: WASTAGE | I17: QTY WITH WASTAGE | J17: UNIT | K17: UNIT LABOR HOURS | L17: TOTAL LABOR HOURS | M17: PER HOUR LABOR RATE | N17: TOTAL LABOR COST | O17: UNIT MATERIAL COST | P17: TOTAL MATERIAL COST | Q17: ITEM COST | R17: TRADE COST | S17: UNIT COST WITH MARKUPS | T17: TOTAL COST WITH MARKUPS
D18: DIV-01 | F18: General | R18: =SUM(Q19:Q65) -> 24839.246 | U18: =SUM(Q67:Q115) -> 164552.81
F20: Plan Design And Permitting
A21: =IF(J21<>"",1+MAX($A$18:A19),"") -> 1 | D21: DIV-01 | E21: General Requirements | F21: Architecture (Assumed By Owner) | G21: 1 | H21: =IF(VLOOKUP(J21,'HOURLY RATES'!B$116:C$124,2,0)=0,$J$3,VLOOKUP(J21,'HOURLY RATES'!B$116:C$124,2,0)) -> 0 | I21: =(G21*(1+H21)) -> 1 | J21: LS | L21: =K21*I21 -> 0 | M21: =IF(VLOOKUP(E21,'HOURLY RATES'!C$6:D$105,2,0)=0,$E$3,VLOOKUP(E21,'HOURLY RATES'!C$6:D$105,2,0)) -> 66.11 | N21: =M21*L21 -> 0 | Q21: =P21+N21 -> 0 | S21: =((((N21*(1+$D$7))+(P21*(1+$D$5+$D$6)))*(1+$D$8)))/I21 -> 0 | T21: =S21*I21 -> 0
A22: =IF(J22<>"",1+MAX($A$18:A21),"") -> 2 | D22: DIV-01 | E22: General Requirements | F22: Engineering (Assumed By Owner) | G22: 1 | H22: =IF(VLOOKUP(J22,'HOURLY RATES'!B$116:C$124,2,0)=0,$J$3,VLOOKUP(J22,'HOURLY RATES'!B$116:C$124,2,0)) -> 0 | I22: =(G22*(1+H22)) -> 1 | J22: LS | L22: =K22*I22 -> 0 | M22: =IF(VLOOKUP(E22,'HOURLY RATES'!C$6:D$105,2,0)=0,$E$3,VLOOKUP(E22,'HOURLY RATES'!C$6:D$105,2,0)) -> 66.11 | N22: =M22*L22 -> 0 | Q22: =P22+N22 -> 0 | S22: =((((N22*(1+$D$7))+(P22*(1+$D$5+$D$6)))*(1+$D$8)))/I22 -> 0 | T22: =S22*I22 -> 0
A23: =IF(J23<>"",1+MAX($A$18:A22),"") -> 3 | D23: DIV-01 | E23: General Requirements | F23: Surveying | G23: 1 | H23: =IF(VLOOKUP(J23,'HOURLY RATES'!B$116:C$124,2,0)=0,$J$3,VLOOKUP(J23,'HOURLY RATES'!B$116:C$124,2,0)) -> 0 | I23: =(G23*(1+H23)) -> 1 | J23: LS | L23: =K23*I23 -> 0 | M23: =IF(VLOOKUP(E23,'HOURLY RATES'!C$6:D$105,2,0)=0,$E$3,VLOOKUP(E23,'HOURLY RATES'!C$6:D$105,2,0)) -> 66.11 | N23: =M23*L23 -> 0 | Q23: =P23+N23 -> 0 | S23: =((((N23*(1+$D$7))+(P23*(1+$D$5+$D$6)))*(1+$D$8)))/I23 -> 0 | T23: =S23*I23 -> 0
A24: =IF(J24<>"",1+MAX($A$18:A23),"") -> 4 | D24: DIV-01 | E24: General Requirements | F24: Soils Report (Assumed By Owner) | G24: 1 | H24: =IF(VLOOKUP(J24,'HOURLY RATES'!B$116:C$124,2,0)=0,$J$3,VLOOKUP(J24,'HOURLY RATES'!B$116:C$124,2,0)) -> 0 | I24: =(G24*(1+H24)) -> 1 | J24: LS | L24: =K24*I24 -> 0 | M24: =IF(VLOOKUP(E24,'HOURLY RATES'!C$6:D$105,2,0)=0,$E$3,VLOOKUP(E24,'HOURLY RATES'!C$6:D$105,2,0)) -> 66.11 | N24: =M24*L24 -> 0 | Q24: =P24+N24 -> 0 | S24: =((((N24*(1+$D$7))+(P24*(1+$D$5+$D$6)))*(1+$D$8)))/I24 -> 0 | T24: =S24*I24 -> 0
A25: =IF(J25<>"",1+MAX($A$18:A24),"") -> 5 | D25: DIV-01 | E25: General Requirements | F25: Geological Report (Assumed By Owner) | G25: 1 | H25: =IF(VLOOKUP(J25,'HOURLY RATES'!B$116:C$124,2,0)=0,$J$3,VLOOKUP(J25,'HOURLY RATES'!B$116:C$124,2,0)) -> 0 | I25: =(G25*(1+H25)) -> 1 | J25: LS | L25: =K25*I25 -> 0 | M25: =IF(VLOOKUP(E25,'HOURLY RATES'!C$6:D$105,2,0)=0,$E$3,VLOOKUP(E25,'HOURLY RATES'!C$6:D$105,2,0)) -> 66.11 | N25: =M25*L25 -> 0 | Q25: =P25+N25 -> 0 | S25: =((((N25*(1+$D$7))+(P25*(1+$D$5+$D$6)))*(1+$D$8)))/I25 -> 0 | T25: =S25*I25 -> 0
A26: =IF(J26<>"",1+MAX($A$18:A25),"") -> 6 | D26: DIV-01 | E26: General Requirements | F26: Concrete Testing | G26: 1 | H26: =IF(VLOOKUP(J26,'HOURLY RATES'!B$116:C$124,2,0)=0,$J$3,VLOOKUP(J26,'HOURLY RATES'!B$116:C$124,2,0)) -> 0 | I26: =(G26*(1+H26)) -> 1 | J26: LS | L26: =K26*I26 -> 0 | M26: =IF(VLOOKUP(E26,'HOURLY RATES'!C$6:D$105,2,0)=0,$E$3,VLOOKUP(E26,'HOURLY RATES'!C$6:D$105,2,0)) -> 66.11 | N26: =M26*L26 -> 0 | Q26: =P26+N26 -> 0 | S26: =((((N26*(1+$D$7))+(P26*(1+$D$5+$D$6)))*(1+$D$8)))/I26 -> 0 | T26: =S26*I26 -> 0
A27: =IF(J27<>"",1+MAX($A$18:A26),"") -> 7 | D27: DIV-01 | E27: General Requirements | F27: Permit Fee | G27: 1 | H27: =IF(VLOOKUP(J27,'HOURLY RATES'!B$116:C$124,2,0)=0,$J$3,VLOOKUP(J27,'HOURLY RATES'!B$116:C$124,2,0)) -> 0 | I27: =(G27*(1+H27)) -> 1 | J27: LS | K27: =1%*($U$18)/M27 -> 24.890759 | L27: =K27*I27 -> 24.890759 | M27: =IF(VLOOKUP(E27,'HOURLY RATES'!C$6:D$105,2,0)=0,$E$3,VLOOKUP(E27,'HOURLY RATES'!C$6:D$105,2,0)) -> 66.11 | N27: =M27*L27 -> 1645.5281 | Q27: =P27+N27 -> 1645.5281 | S27: =((((N27*(1+$D$7))+(P27*(1+$D$5+$D$6)))*(1+$D$8)))/I27 -> 1904.0405 | T27: =S27*I27 -> 1904.0405
A28: =IF(J28<>"",1+MAX($A$18:A27),"") -> 8 | D28: DIV-01 | E28: General Requirements | F28: Permits (Based On Interior Finish Area) | G28: 1 | H28: =IF(VLOOKUP(J28,'HOURLY RATES'!B$116:C$124,2,0)=0,$J$3,VLOOKUP(J28,'HOURLY RATES'!B$116:C$124,2,0)) -> 0 | I28: =(G28*(1+H28)) -> 1 | J28: LS | L28: =K28*I28 -> 0 | M28: =IF(VLOOKUP(E28,'HOURLY RATES'!C$6:D$105,2,0)=0,$E$3,VLOOKUP(E28,'HOURLY RATES'!C$6:D$105,2,0)) -> 66.11 | N28: =M28*L28 -> 0 | Q28: =P28+N28 -> 0 | S28: =((((N28*(1+$D$7))+(P28*(1+$D$5+$D$6)))*(1+$D$8)))/I28 -> 0 | T28: =S28*I28 -> 0
A29: =IF(J29<>"",1+MAX($A$18:A28),"") -> 9 | D29: DIV-01 | E29: General Requirements | F29: Plan Coordination | G29: 1 | H29: =IF(VLOOKUP(J29,'HOURLY RATES'!B$116:C$124,2,0)=0,$J$3,VLOOKUP(J29,'HOURLY RATES'!B$116:C$124,2,0)) -> 0 | I29: =(G29*(1+H29)) -> 1 | J29: LS | L29: =K29*I29 -> 0 | M29: =IF(VLOOKUP(E29,'HOURLY RATES'!C$6:D$105,2,0)=0,$E$3,VLOOKUP(E29,'HOURLY RATES'!C$6:D$105,2,0)) -> 66.11 | N29: =M29*L29 -> 0 | Q29: =P29+N29 -> 0 | S29: =((((N29*(1+$D$7))+(P29*(1+$D$5+$D$6)))*(1+$D$8)))/I29 -> 0 | T29: =S29*I29 -> 0
A30: =IF(J30<>"",1+MAX($A$18:A29),"") -> 10 | D30: DIV-01 | E30: General Requirements | F30: Roof Inspection | G30: 1 | H30: =IF(VLOOKUP(J30,'HOURLY RATES'!B$116:C$124,2,0)=0,$J$3,VLOOKUP(J30,'HOURLY RATES'!B$116:C$124,2,0)) -> 0 | I30: =(G30*(1+H30)) -> 1 | J30: LS | L30: =K30*I30 -> 0 | M30: =IF(VLOOKUP(E30,'HOURLY RATES'!C$6:D$105,2,0)=0,$E$3,VLOOKUP(E30,'HOURLY RATES'!C$6:D$105,2,0)) -> 66.11 | N30: =M30*L30 -> 0 | Q30: =P30+N30 -> 0 | S30: =((((N30*(1+$D$7))+(P30*(1+$D$5+$D$6)))*(1+$D$8)))/I30 -> 0 | T30: =S30*I30 -> 0
A31: =IF(J31<>"",1+MAX($A$18:A30),"") -> 11 | D31: DIV-01 | E31: General Requirements | F31: Blueprints (?? Pages) | G31: 1 | H31: =IF(VLOOKUP(J31,'HOURLY RATES'!B$116:C$124,2,0)=0,$J$3,VLOOKUP(J31,'HOURLY RATES'!B$116:C$124,2,0)) -> 0 | I31: =(G31*(1+H31)) -> 1 | J31: LS | L31: =K31*I31 -> 0 | M31: =IF(VLOOKUP(E31,'HOURLY RATES'!C$6:D$105,2,0)=0,$E$3,VLOOKUP(E31,'HOURLY RATES'!C$6:D$105,2,0)) -> 66.11 | N31: =M31*L31 -> 0 | Q31: =P31+N31 -> 0 | S31: =((((N31*(1+$D$7))+(P31*(1+$D$5+$D$6)))*(1+$D$8)))/I31 -> 0 | T31: =S31*I31 -> 0
A32: =IF(J32<>"",1+MAX($A$18:A31),"")
A33: =IF(J33<>"",1+MAX($A$18:A32),"") | F33: Utilities
A34: =IF(J34<>"",1+MAX($A$18:A33),"") -> 12 | D34: DIV-01 | E34: General Requirements | F34: Utilities During Construction (Based On Interior Finish Area) | G34: 1 | H34: =IF(VLOOKUP(J34,'HOURLY RATES'!B$116:C$124,2,0)=0,$J$3,VLOOKUP(J34,'HOURLY RATES'!B$116:C$124,2,0)) -> 0 | I34: =(G34*(1+H34)) -> 1 | J34: LS | K34: =0.288%*(U18)/M34 -> 7.1685386 | L34: =K34*I34 -> 7.1685386 | M34: =IF(VLOOKUP(E34,'HOURLY RATES'!C$6:D$105,2,0)=0,$E$3,VLOOKUP(E34,'HOURLY RATES'!C$6:D$105,2,0)) -> 66.11 | N34: =M34*L34 -> 473.91209 | Q34: =P34+N34 -> 473.91209 | S34: =((((N34*(1+$D$7))+(P34*(1+$D$5+$D$6)))*(1+$D$8)))/I34 -> 548.36367 | T34: =S34*I34 -> 548.36367
A35: =IF(J35<>"",1+MAX($A$18:A34),"") -> 13 | D35: DIV-01 | E35: General Requirements | F35: Port-O-Potty (Based On Interior Finish Area) | G35: 1 | H35: =IF(VLOOKUP(J35,'HOURLY RATES'!B$116:C$124,2,0)=0,$J$3,VLOOKUP(J35,'HOURLY RATES'!B$116:C$124,2,0)) -> 0 | I35: =(G35*(1+H35)) -> 1 | J35: LS | K35: =0.257%*(U18)/M35 -> 6.396925 | L35: =K35*I35 -> 6.396925 | M35: =IF(VLOOKUP(E35,'HOURLY RATES'!C$6:D$105,2,0)=0,$E$3,VLOOKUP(E35,'HOURLY RATES'!C$6:D$105,2,0)) -> 66.11 | N35: =M35*L35 -> 422.90071 | Q35: =P35+N35 -> 422.90071 | S35: =((((N35*(1+$D$7))+(P35*(1+$D$5+$D$6)))*(1+$D$8)))/I35 -> 489.33842 | T35: =S35*I35 -> 489.33842
A36: =IF(J36<>"",1+MAX($A$18:A35),"") -> 14 | D36: DIV-01 | E36: General Requirements | F36: Temporary Power (Based On Interior Finish Area) | G36: 1 | H36: =IF(VLOOKUP(J36,'HOURLY RATES'!B$116:C$124,2,0)=0,$J$3,VLOOKUP(J36,'HOURLY RATES'!B$116:C$124,2,0)) -> 0 | I36: =(G36*(1+H36)) -> 1 | J36: LS | K36: =0.65%*(U18)/M36 -> 16.178993 | L36: =K36*I36 -> 16.178993 | M36: =IF(VLOOKUP(E36,'HOURLY RATES'!C$6:D$105,2,0)=0,$E$3,VLOOKUP(E36,'HOURLY RATES'!C$6:D$105,2,0)) -> 66.11 | N36: =M36*L36 -> 1069.5932 | Q36: =P36+N36 -> 1069.5932 | S36: =((((N36*(1+$D$7))+(P36*(1+$D$5+$D$6)))*(1+$D$8)))/I36 -> 1237.6263 | T36: =S36*I36 -> 1237.6263
A37: =IF(J37<>"",1+MAX($A$18:A36),"")
A38: =IF(J38<>"",1+MAX($A$18:A37),"") | F38: Equipment And Tools
A39: =IF(J39<>"",1+MAX($A$18:A38),"") -> 15 | D39: DIV-01 | E39: General Requirements | F39: Tool Rentals | G39: 1 | H39: =IF(VLOOKUP(J39,'HOURLY RATES'!B$116:C$124,2,0)=0,$J$3,VLOOKUP(J39,'HOURLY RATES'!B$116:C$124,2,0)) -> 0 | I39: =(G39*(1+H39)) -> 1 | J39: LS | L39: =K39*I39 -> 0 | M39: =IF(VLOOKUP(E39,'HOURLY RATES'!C$6:D$105,2,0)=0,$E$3,VLOOKUP(E39,'HOURLY RATES'!C$6:D$105,2,0)) -> 66.11 | N39: =M39*L39 -> 0 | Q39: =P39+N39 -> 0 | S39: =((((N39*(1+$D$7))+(P39*(1+$D$5+$D$6)))*(1+$D$8)))/I39 -> 0 | T39: =S39*I39 -> 0
A40: =IF(J40<>"",1+MAX($A$18:A39),"") -> 16 | D40: DIV-01 | E40: General Requirements | F40: Tool Shed | G40: 1 | H40: =IF(VLOOKUP(J40,'HOURLY RATES'!B$116:C$124,2,0)=0,$J$3,VLOOKUP(J40,'HOURLY RATES'!B$116:C$124,2,0)) -> 0 | I40: =(G40*(1+H40)) -> 1 | J40: LS | L40: =K40*I40 -> 0 | M40: =IF(VLOOKUP(E40,'HOURLY RATES'!C$6:D$105,2,0)=0,$E$3,VLOOKUP(E40,'HOURLY RATES'!C$6:D$105,2,0)) -> 66.11 | N40: =M40*L40 -> 0 | Q40: =P40+N40 -> 0 | S40: =((((N40*(1+$D$7))+(P40*(1+$D$5+$D$6)))*(1+$D$8)))/I40 -> 0 | T40: =S40*I40 -> 0
A41: =IF(J41<>"",1+MAX($A$18:A40),"") -> 17 | D41: DIV-01 | E41: General Requirements | F41: Dust Control | G41: 1 | H41: =IF(VLOOKUP(J41,'HOURLY RATES'!B$116:C$124,2,0)=0,$J$3,VLOOKUP(J41,'HOURLY RATES'!B$116:C$124,2,0)) -> 0 | I41: =(G41*(1+H41)) -> 1 | J41: LS | L41: =K41*I41 -> 0 | M41: =IF(VLOOKUP(E41,'HOURLY RATES'!C$6:D$105,2,0)=0,$E$3,VLOOKUP(E41,'HOURLY RATES'!C$6:D$105,2,0)) -> 66.11 | N41: =M41*L41 -> 0 | Q41: =P41+N41 -> 0 | S41: =((((N41*(1+$D$7))+(P41*(1+$D$5+$D$6)))*(1+$D$8)))/I41 -> 0 | T41: =S41*I41 -> 0
A42: =IF(J42<>"",1+MAX($A$18:A41),"") -> 18 | D42: DIV-01 | E42: General Requirements | F42: Ice, Water, Beverages | G42: 1 | H42: =IF(VLOOKUP(J42,'HOURLY RATES'!B$116:C$124,2,0)=0,$J$3,VLOOKUP(J42,'HOURLY RATES'!B$116:C$124,2,0)) -> 0 | I42: =(G42*(1+H42)) -> 1 | J42: LS | L42: =K42*I42 -> 0 | M42: =IF(VLOOKUP(E42,'HOURLY RATES'!C$6:D$105,2,0)=0,$E$3,VLOOKUP(E42,'HOURLY RATES'!C$6:D$105,2,0)) -> 66.11 | N42: =M42*L42 -> 0 | Q42: =P42+N42 -> 0 | S42: =((((N42*(1+$D$7))+(P42*(1+$D$5+$D$6)))*(1+$D$8)))/I42 -> 0 | T42: =S42*I42 -> 0
...

Sheet BID ALT.
A1: ITEM # | B1: REF. SHEET | C1: DETAIL | D1: CSI SECT | E1: Sub Contractor | F1: DESCRIPTION | G1: QTY. | H1: WASTAGE | I1: QTY WITH WASTAGE | J1: UNIT | K1: UNIT LABOR HOURS | L1: TOTAL LABOR HOURS | M1: PER HOUR LABOR RATE | N1: TOTAL LABOR COST | O1: UNIT MATERIAL COST | P1: TOTAL MATERIAL COST | Q1: ITEM COST | R1: TRADE COST | S1: UNIT ITEM COST WITH MARKUPS | T1: TOTAL ITEM COST WITH MARKUPS
A2: Estimate of Materials Quantities and Cost of Construction
B3: CLICK HERE TO GO BACK TO COST SUMMARY
D4: Sub-Total | E4: =Q101 -> 152758.71 | J4: Date: | K4: 45929
C5: Material Sales Tax | D5: 0.089 | E5: =P101*D5 -> 4160.8602 | F5: (Adjust the percentage for Material tax as required) | J5: Project: | K5: Replacement Of The Lexington Avenue Retaining Wall
C6: Overhead & Profit / Inflation (Material) | D6: 0.1 | E6: =P101*D6 -> 4675.1239 | F6: (Adjust the percentage for Overhead & Profit as required) | J6: Project Location: | K6: Lexington Avenue, Norwalk, CT
C7: Overhead & Profit (Labor) | D7: 0.14 | E7: =N101*D7 -> 14841.046 | F7: (Adjust the percentage for Overhead & Profit as required) | J7: Project and Wage Type: | K7: Private (Non-Prevailing wage)
C8: Bond Fee | D8: 0.015 | E8: =(E4+E5+E6+E7)*D8 -> 2646.5361 | F8: (Adjust the percentage for Bond Fee as required)
D9: Total Bid | E9: =E4+E5+E6+E7+E8 -> 179082.28 | J9: Gross Internal Area of Structure (SF)
J10: Covered Area of Structure (SF)
C11: Material Wastage 1 | D11: 0 | E11: ( for Quantities in Each & LS) | J11: No. of Units
C12: Material Wastage 2 | D12: 0.05 | E12: ( for Quantities in LF, SF, SY, CY, LBS, TONS) | J12: No. of Floors and Overall Height
B13: (Changing the wastage percentage here will update the wastage for whole tab) | J13: Hardscaping Area (SF) | K13: 0
J14: Soft scaping Area (SF) | K14: 0
B15: To change hourly rates for any trade please go to "Hourly Rates" Tab
A17: ITEM # | B17: REF. SHEET | C17: DETAIL | D17: CSI SECT | E17: Sub Contractor | F17: DESCRIPTION | G17: QTY. | H17: WASTAGE | I17: QTY WITH WASTAGE | J17: UNIT | K17: UNIT LABOR HOURS | L17: TOTAL LABOR HOURS | M17: PER HOUR LABOR RATE | N17: TOTAL LABOR COST | O17: UNIT MATERIAL COST | P17: TOTAL MATERIAL COST | Q17: ITEM COST | R17: TRADE COST | S17: UNIT COST WITH MARKUPS | T17: TOTAL COST WITH MARKUPS
D18: DIV-01 | F18: General | R18: =SUM(Q19:Q65) -> 20034.691 | U18: =SUM(Q67:Q100) -> 132724.02
F20: Plan Design And Permitting
A21: =IF(J21<>"",1+MAX($A$18:A19),"") -> 1 | D21: DIV-01 | E21: General Requirements | F21: Architecture (Assumed By Owner) | G21: 1 | H21: =IF(VLOOKUP(J21,'HOURLY RATES'!B$116:C$124,2,0)=0,$J$3,VLOOKUP(J21,'HOURLY RATES'!B$116:C$124,2,0)) -> 0 | I21: =(G21*(1+H21)) -> 1 | J21: LS | L21: =K21*I21 -> 0 | M21: =IF(VLOOKUP(E21,'HOURLY RATES'!C$6:D$105,2,0)=0,$E$3,VLOOKUP(E21,'HOURLY RATES'!C$6:D$105,2,0)) -> 66.11 | N21: =M21*L21 -> 0 | Q21: =P21+N21 -> 0 | S21: =((((N21*(1+$D$7))+(P21*(1+$D$5+$D$6)))*(1+$D$8)))/I21 -> 0 | T21: =S21*I21 -> 0
A22: =IF(J22<>"",1+MAX($A$18:A21),"") -> 2 | D22: DIV-01 | E22: General Requirements | F22: Engineering (Assumed By Owner) | G22: 1 | H22: =IF(VLOOKUP(J22,'HOURLY RATES'!B$116:C$124,2,0)=0,$J$3,VLOOKUP(J22,'HOURLY RATES'!B$116:C$124,2,0)) -> 0 | I22: =(G22*(1+H22)) -> 1 | J22: LS | L22: =K22*I22 -> 0 | M22: =IF(VLOOKUP(E22,'HOURLY RATES'!C$6:D$105,2,0)=0,$E$3,VLOOKUP(E22,'HOURLY RATES'!C$6:D$105,2,0)) -> 66.11 | N22: =M22*L22 -> 0 | Q22: =P22+N22 -> 0 | S22: =((((N22*(1+$D$7))+(P22*(1+$D$5+$D$6)))*(1+$D$8)))/I22 -> 0 | T22: =S22*I22 -> 0
A23: =IF(J23<>"",1+MAX($A$18:A22),"") -> 3 | D23: DIV-01 | E23: General Requirements | F23: Surveying | G23: 1 | H23: =IF(VLOOKUP(J23,'HOURLY RATES'!B$116:C$124,2,0)=0,$J$3,VLOOKUP(J23,'HOURLY RATES'!B$116:C$124,2,0)) -> 0 | I23: =(G23*(1+H23)) -> 1 | J23: LS | L23: =K23*I23 -> 0 | M23: =IF(VLOOKUP(E23,'HOURLY RATES'!C$6:D$105,2,0)=0,$E$3,VLOOKUP(E23,'HOURLY RATES'!C$6:D$105,2,0)) -> 66.11 | N23: =M23*L23 -> 0 | Q23: =P23+N23 -> 0 | S23: =((((N23*(1+$D$7))+(P23*(1+$D$5+$D$6)))*(1+$D$8)))/I23 -> 0 | T23: =S23*I23 -> 0
A24: =IF(J24<>"",1+MAX($A$18:A23),"") -> 4 | D24: DIV-01 | E24: General Requirements | F24: Soils Report (Assumed By Owner) | G24: 1 | H24: =IF(VLOOKUP(J24,'HOURLY RATES'!B$116:C$124,2,0)=0,$J$3,VLOOKUP(J24,'HOURLY RATES'!B$116:C$124,2,0)) -> 0 | I24: =(G24*(1+H24)) -> 1 | J24: LS | L24: =K24*I24 -> 0 | M24: =IF(VLOOKUP(E24,'HOURLY RATES'!C$6:D$105,2,0)=0,$E$3,VLOOKUP(E24,'HOURLY RATES'!C$6:D$105,2,0)) -> 66.11 | N24: =M24*L24 -> 0 | Q24: =P24+N24 -> 0 | S24: =((((N24*(1+$D$7))+(P24*(1+$D$5+$D$6)))*(1+$D$8)))/I24 -> 0 | T24: =S24*I24 -> 0
A25: =IF(J25<>"",1+MAX($A$18:A24),"") -> 5 | D25: DIV-01 | E25: General Requirements | F25: Geological Report (Assumed By Owner) | G25: 1 | H25: =IF(VLOOKUP(J25,'HOURLY RATES'!B$116:C$124,2,0)=0,$J$3,VLOOKUP(J25,'HOURLY RATES'!B$116:C$124,2,0)) -> 0 | I25: =(G25*(1+H25)) -> 1 | J25: LS | L25: =K25*I25 -> 0 | M25: =IF(VLOOKUP(E25,'HOURLY RATES'!C$6:D$105,2,0)=0,$E$3,VLOOKUP(E25,'HOURLY RATES'!C$6:D$105,2,0)) -> 66.11 | N25: =M25*L25 -> 0 | Q25: =P25+N25 -> 0 | S25: =((((N25*(1+$D$7))+(P25*(1+$D$5+$D$6)))*(1+$D$8)))/I25 -> 0 | T25: =S25*I25 -> 0
A26: =IF(J26<>"",1+MAX($A$18:A25),"") -> 6 | D26: DIV-01 | E26: General Requirements | F26: Concrete Testing | G26: 1 | H26: =IF(VLOOKUP(J26,'HOURLY RATES'!B$116:C$124,2,0)=0,$J$3,VLOOKUP(J26,'HOURLY RATES'!B$116:C$124,2,0)) -> 0 | I26: =(G26*(1+H26)) -> 1 | J26: LS | L26: =K26*I26 -> 0 | M26: =IF(VLOOKUP(E26,'HOURLY RATES'!C$6:D$105,2,0)=0,$E$3,VLOOKUP(E26,'HOURLY RATES'!C$6:D$105,2,0)) -> 66.11 | N26: =M26*L26 -> 0 | Q26: =P26+N26 -> 0 | S26: =((((N26*(1+$D$7))+(P26*(1+$D$5+$D$6)))*(1+$D$8)))/I26 -> 0 | T26: =S26*I26 -> 0
A27: =IF(J27<>"",1+MAX($A$18:A26),"") -> 7 | D27: DIV-01 | E27: General Requirements | F27: Permit Fee | G27: 1 | H27: =IF(VLOOKUP(J27,'HOURLY RATES'!B$116:C$124,2,0)=0,$J$3,VLOOKUP(J27,'HOURLY RATES'!B$116:C$124,2,0)) -> 0 | I27: =(G27*(1+H27)) -> 1 | J27: LS | K27: =1%*($U$18)/M27 -> 20.07624 | L27: =K27*I27 -> 20.07624 | M27: =IF(VLOOKUP(E27,'HOURLY RATES'!C$6:D$105,2,0)=0,$E$3,VLOOKUP(E27,'HOURLY RATES'!C$6:D$105,2,0)) -> 66.11 | N27: =M27*L27 -> 1327.2402 | Q27: =P27+N27 -> 1327.2402 | S27: =((((N27*(1+$D$7))+(P27*(1+$D$5+$D$6)))*(1+$D$8)))/I27 -> 1535.7496 | T27: =S27*I27 -> 1535.7496
A28: =IF(J28<>"",1+MAX($A$18:A27),"") -> 8 | D28: DIV-01 | E28: General Requirements | F28: Permits (Based On Interior Finish Area) | G28: 1 | H28: =IF(VLOOKUP(J28,'HOURLY RATES'!B$116:C$124,2,0)=0,$J$3,VLOOKUP(J28,'HOURLY RATES'!B$116:C$124,2,0)) -> 0 | I28: =(G28*(1+H28)) -> 1 | J28: LS | L28: =K28*I28 -> 0 | M28: =IF(VLOOKUP(E28,'HOURLY RATES'!C$6:D$105,2,0)=0,$E$3,VLOOKUP(E28,'HOURLY RATES'!C$6:D$105,2,0)) -> 66.11 | N28: =M28*L28 -> 0 | Q28: =P28+N28 -> 0 | S28: =((((N28*(1+$D$7))+(P28*(1+$D$5+$D$6)))*(1+$D$8)))/I28 -> 0 | T28: =S28*I28 -> 0
A29: =IF(J29<>"",1+MAX($A$18:A28),"") -> 9 | D29: DIV-01 | E29: General Requirements | F29: Plan Coordination | G29: 1 | H29: =IF(VLOOKUP(J29,'HOURLY RATES'!B$116:C$124,2,0)=0,$J$3,VLOOKUP(J29,'HOURLY RATES'!B$116:C$124,2,0)) -> 0 | I29: =(G29*(1+H29)) -> 1 | J29: LS | L29: =K29*I29 -> 0 | M29: =IF(VLOOKUP(E29,'HOURLY RATES'!C$6:D$105,2,0)=0,$E$3,VLOOKUP(E29,'HOURLY RATES'!C$6:D$105,2,0)) -> 66.11 | N29: =M29*L29 -> 0 | Q29: =P29+N29 -> 0 | S29: =((((N29*(1+$D$7))+(P29*(1+$D$5+$D$6)))*(1+$D$8)))/I29 -> 0 | T29: =S29*I29 -> 0
A30: =IF(J30<>"",1+MAX($A$18:A29),"") -> 10 | D30: DIV-01 | E30: General Requirements | F30: Roof Inspection | G30: 1 | H30: =IF(VLOOKUP(J30,'HOURLY RATES'!B$116:C$124,2,0)=0,$J$3,VLOOKUP(J30,'HOURLY RATES'!B$116:C$124,2,0)) -> 0 | I30: =(G30*(1+H30)) -> 1 | J30: LS | L30: =K30*I30 -> 0 | M30: =IF(VLOOKUP(E30,'HOURLY RATES'!C$6:D$105,2,0)=0,$E$3,VLOOKUP(E30,'HOURLY RATES'!C$6:D$105,2,0)) -> 66.11 | N30: =M30*L30 -> 0 | Q30: =P30+N30 -> 0 | S30: =((((N30*(1+$D$7))+(P30*(1+$D$5+$D$6)))*(1+$D$8)))/I30 -> 0 | T30: =S30*I30 -> 0
A31: =IF(J31<>"",1+MAX($A$18:A30),"") -> 11 | D31: DIV-01 | E31: General Requirements | F31: Blueprints (?? Pages) | G31: 1 | H31: =IF(VLOOKUP(J31,'HOURLY RATES'!B$116:C$124,2,0)=0,$J$3,VLOOKUP(J31,'HOURLY RATES'!B$116:C$124,2,0)) -> 0 | I31: =(G31*(1+H31)) -> 1 | J31: LS | L31: =K31*I31 -> 0 | M31: =IF(VLOOKUP(E31,'HOURLY RATES'!C$6:D$105,2,0)=0,$E$3,VLOOKUP(E31,'HOURLY RATES'!C$6:D$105,2,0)) -> 66.11 | N31: =M31*L31 -> 0 | Q31: =P31+N31 -> 0 | S31: =((((N31*(1+$D$7))+(P31*(1+$D$5+$D$6)))*(1+$D$8)))/I31 -> 0 | T31: =S31*I31 -> 0
A32: =IF(J32<>"",1+MAX($A$18:A31),"")
A33: =IF(J33<>"",1+MAX($A$18:A32),"") | F33: Utilities
A34: =IF(J34<>"",1+MAX($A$18:A33),"") -> 12 | D34: DIV-01 | E34: General Requirements | F34: Utilities During Construction (Based On Interior Finish Area) | G34: 1 | H34: =IF(VLOOKUP(J34,'HOURLY RATES'!B$116:C$124,2,0)=0,$J$3,VLOOKUP(J34,'HOURLY RATES'!B$116:C$124,2,0)) -> 0 | I34: =(G34*(1+H34)) -> 1 | J34: LS | K34: =0.288%*(U18)/M34 -> 5.781957 | L34: =K34*I34 -> 5.781957 | M34: =IF(VLOOKUP(E34,'HOURLY RATES'!C$6:D$105,2,0)=0,$E$3,VLOOKUP(E34,'HOURLY RATES'!C$6:D$105,2,0)) -> 66.11 | N34: =M34*L34 -> 382.24518 | Q34: =P34+N34 -> 382.24518 | S34: =((((N34*(1+$D$7))+(P34*(1+$D$5+$D$6)))*(1+$D$8)))/I34 -> 442.29589 | T34: =S34*I34 -> 442.29589
A35: =IF(J35<>"",1+MAX($A$18:A34),"") -> 13 | D35: DIV-01 | E35: General Requirements | F35: Port-O-Potty (Based On Interior Finish Area) | G35: 1 | H35: =IF(VLOOKUP(J35,'HOURLY RATES'!B$116:C$124,2,0)=0,$J$3,VLOOKUP(J35,'HOURLY RATES'!B$116:C$124,2,0)) -> 0 | I35: =(G35*(1+H35)) -> 1 | J35: LS | K35: =0.257%*(U18)/M35 -> 5.1595936 | L35: =K35*I35 -> 5.1595936 | M35: =IF(VLOOKUP(E35,'HOURLY RATES'!C$6:D$105,2,0)=0,$E$3,VLOOKUP(E35,'HOURLY RATES'!C$6:D$105,2,0)) -> 66.11 | N35: =M35*L35 -> 341.10073 | Q35: =P35+N35 -> 341.10073 | S35: =((((N35*(1+$D$7))+(P35*(1+$D$5+$D$6)))*(1+$D$8)))/I35 -> 394.68766 | T35: =S35*I35 -> 394.68766
A36: =IF(J36<>"",1+MAX($A$18:A35),"") -> 14 | D36: DIV-01 | E36: General Requirements | F36: Temporary Power (Based On Interior Finish Area) | G36: 1 | H36: =IF(VLOOKUP(J36,'HOURLY RATES'!B$116:C$124,2,0)=0,$J$3,VLOOKUP(J36,'HOURLY RATES'!B$116:C$124,2,0)) -> 0 | I36: =(G36*(1+H36)) -> 1 | J36: LS | K36: =0.65%*(U18)/M36 -> 13.049556 | L36: =K36*I36 -> 13.049556 | M36: =IF(VLOOKUP(E36,'HOURLY RATES'!C$6:D$105,2,0)=0,$E$3,VLOOKUP(E36,'HOURLY RATES'!C$6:D$105,2,0)) -> 66.11 | N36: =M36*L36 -> 862.70613 | Q36: =P36+N36 -> 862.70613 | S36: =((((N36*(1+$D$7))+(P36*(1+$D$5+$D$6)))*(1+$D$8)))/I36 -> 998.23726 | T36: =S36*I36 -> 998.23726
A37: =IF(J37<>"",1+MAX($A$18:A36),"")
A38: =IF(J38<>"",1+MAX($A$18:A37),"") | F38: Equipment And Tools
A39: =IF(J39<>"",1+MAX($A$18:A38),"") -> 15 | D39: DIV-01 | E39: General Requirements | F39: Tool Rentals | G39: 1 | H39: =IF(VLOOKUP(J39,'HOURLY RATES'!B$116:C$124,2,0)=0,$J$3,VLOOKUP(J39,'HOURLY RATES'!B$116:C$124,2,0)) -> 0 | I39: =(G39*(1+H39)) -> 1 | J39: LS | L39: =K39*I39 -> 0 | M39: =IF(VLOOKUP(E39,'HOURLY RATES'!C$6:D$105,2,0)=0,$E$3,VLOOKUP(E39,'HOURLY RATES'!C$6:D$105,2,0)) -> 66.11 | N39: =M39*L39 -> 0 | Q39: =P39+N39 -> 0 | S39: =((((N39*(1+$D$7))+(P39*(1+$D$5+$D$6)))*(1+$D$8)))/I39 -> 0 | T39: =S39*I39 -> 0
A40: =IF(J40<>"",1+MAX($A$18:A39),"") -> 16 | D40: DIV-01 | E40: General Requirements | F40: Tool Shed | G40: 1 | H40: =IF(VLOOKUP(J40,'HOURLY RATES'!B$116:C$124,2,0)=0,$J$3,VLOOKUP(J40,'HOURLY RATES'!B$116:C$124,2,0)) -> 0 | I40: =(G40*(1+H40)) -> 1 | J40: LS | L40: =K40*I40 -> 0 | M40: =IF(VLOOKUP(E40,'HOURLY RATES'!C$6:D$105,2,0)=0,$E$3,VLOOKUP(E40,'HOURLY RATES'!C$6:D$105,2,0)) -> 66.11 | N40: =M40*L40 -> 0 | Q40: =P40+N40 -> 0 | S40: =((((N40*(1+$D$7))+(P40*(1+$D$5+$D$6)))*(1+$D$8)))/I40 -> 0 | T40: =S40*I40 -> 0
A41: =IF(J41<>"",1+MAX($A$18:A40),"") -> 17 | D41: DIV-01 | E41: General Requirements | F41: Dust Control | G41: 1 | H41: =IF(VLOOKUP(J41,'HOURLY RATES'!B$116:C$124,2,0)=0,$J$3,VLOOKUP(J41,'HOURLY RATES'!B$116:C$124,2,0)) -> 0 | I41: =(G41*(1+H41)) -> 1 | J41: LS | L41: =K41*I41 -> 0 | M41: =IF(VLOOKUP(E41,'HOURLY RATES'!C$6:D$105,2,0)=0,$E$3,VLOOKUP(E41,'HOURLY RATES'!C$6:D$105,2,0)) -> 66.11 | N41: =M41*L41 -> 0 | Q41: =P41+N41 -> 0 | S41: =((((N41*(1+$D$7))+(P41*(1+$D$5+$D$6)))*(1+$D$8)))/I41 -> 0 | T41: =S41*I41 -> 0
A42: =IF(J42<>"",1+MAX($A$18:A41),"") -> 18 | D42: DIV-01 | E42: General Requirements | F42: Ice, Water, Beverages | G42: 1 | H42: =IF(VLOOKUP(J42,'HOURLY RATES'!B$116:C$124,2,0)=0,$J$3,VLOOKUP(J42,'HOURLY RATES'!B$116:C$124,2,0)) -> 0 | I42: =(G42*(1+H42)) -> 1 | J42: LS | L42: =K42*I42 -> 0 | M42: =IF(VLOOKUP(E42,'HOURLY RATES'!C$6:D$105,2,0)=0,$E$3,VLOOKUP(E42,'HOURLY RATES'!C$6:D$105,2,0)) -> 66.11 | N42: =M42*L42 -> 0 | Q42: =P42+N42 -> 0 | S42: =((((N42*(1+$D$7))+(P42*(1+$D$5+$D$6)))*(1+$D$8)))/I42 -> 0 | T42: =S42*I42 -> 0
...

Sheet Dashboard
A1: Project Dashboard
A37: Contentration of Sub-Contractor Cost

Sheet Data for Dashboard
A3: Pie Chart:
B4: Type | C4: Amount
B5: Material | C5: ='COST SUMMARY'!E25 -> 70413.367 | D5: =C5/$C$11 -> 0.31625484
B6: Labor | C6: ='COST SUMMARY'!D25 -> 118978.69 | D6: =C6/$C$11 -> 0.53438129 | E6: Type | F6: Percentage
B7: Material Tax | C7: ='COST SUMMARY'!E26 -> 6266.7896 | D7: =C7/$C$11 -> 0.028146681 | E7: Material Tax | F7: =C7/C5 -> 0.089
B8: Overhead & Profit (Material) | C8: ='COST SUMMARY'!E27 -> 7041.3367 | D8: =C8/$C$11 -> 0.031625484 | E8: Overhead & Profit (Material) | F8: =C8/C5 -> 0.1
B9: Overhead & Profit (Labor) | C9: ='COST SUMMARY'!D28 -> 16657.016 | D9: =C9/$C$11 -> 0.07481338 | E9: Overhead & Profit (Labor) | F9: =C9/C6 -> 0.14
B10: Bond Fee | C10: ='COST SUMMARY'!F29 -> 3290.3579 | D10: =C10/$C$11 -> 0.014778325 | E10: Bond Fee | F10: =C10/SUM(C4:C9) -> 0.015
C11: =SUM(C5:C10) -> 222647.55 | E11: OH & P on subnotes | F11: ='COST SUMMARY'!L13 -> 0.05

Sheet COST SUMMARY
A1: COST SUMMARY
C4: Date: | D4: ='BASE BID'!K4 -> 45929 | K4: Project Type: | L4: ='BASE BID'!K7 -> Private (Non-Prevailing wage)
C5: Project: | D5: ='BASE BID'!K5 -> Replacement Of The Lexington Avenue Retaining Wall | K5: Scope of Work: | L5: Retaining Wall Replacement
C6: Project Location: | D6: ='BASE BID'!K6 -> City OF Norwalk 11, 19 & 21 Snowden Street | K6: Total Base Bid: | L6: =D10 -> 222647.55
B9: BASE BID /ALTERNATES/ALLOWANCES | D9: TOTAL COSTS | J9: Please enter the sub-quotes in column R (Highlighted orange) against each division/trade and update the Overhead & Profit % as required below; column K will be updated automatically with Subquotes with OH&P. If there is no value entered in column R, the cost from column J (by DE) will be picked.
B10: Base Bid | D10: ='BASE BID'!E9 -> 222647.55
B11: Bid Alternate | D11: ='BID ALT.'!E9 -> 179082.28
B12: Separate Permit
B13: Hourly Rates Tab | J13: OH&P on Subquotes | L13: 0.05
J16: For Client's Use Only
B18: CSI Summary for Base Bid | J18: Comparison with Sub-Quotes | M18: Enter the numbers manually
R19: Enter Subquotes below
B20: Div. No. | C20: CSI Division | D20: Labor Cost | E20: Material Cost | F20: Total Cost | G20: % of sub-total cost | J20: Division Cost with OH&P & Material Tax | K20: Sub-Quotes w/ OH&P | L20: Difference | M20: Finalized Bid amount by GC | N20: Remarks
B21: DIV-01 | C21: General Requirements | D21: =SUMIF('BASE BID'!D:D, B21,'BASE BID'!N:N) -> 24839.246 | E21: =SUMIF('BASE BID'!D:D, B21, 'BASE BID'!P:P) -> 0 | F21: =SUMIF('BASE BID'!D:D, B21, 'BASE BID'!Q:Q) -> 24839.246 | G21: =F21/F$25 -> 0.13115253 | J21: =((D21*(1+$G$28))+(E21*(1+$G$26+$G$27)))*(1+$G$29) -> 28741.492 | K21: =IF(R21="",J21,R21*(1+L$13)) -> 0 | L21: =J21-K21 -> 28741.492 | R21: 0
B22: DIV-02 | C22: Existing conditions | D22: =SUMIF('BASE BID'!D:D, B22,'BASE BID'!N:N) -> 37537.161 | E22: =SUMIF('BASE BID'!D:D, B22, 'BASE BID'!P:P) -> 0 | F22: =SUMIF('BASE BID'!D:D, B22, 'BASE BID'!Q:Q) -> 37537.161 | G22: =F22/F$25 -> 0.19819818 | J22: =((D22*(1+$G$28))+(E22*(1+$G$26+$G$27)))*(1+$G$29) -> 43434.249 | K22: =IF(R22="",J22,R22*(1+L$13)) -> 0 | L22: =J22-K22 -> 43434.249 | R22: 0
B23: DIV-32 | C23: Exterior Improvements | D23: =SUMIF('BASE BID'!D:D, B23,'BASE BID'!N:N) -> 54977.196 | E23: =SUMIF('BASE BID'!D:D, B23, 'BASE BID'!P:P) -> 64310.238 | F23: =SUMIF('BASE BID'!D:D, B23, 'BASE BID'!Q:Q) -> 119287.43 | G23: =F23/F$25 -> 0.62984392 | J23: =((D23*(1+$G$28))+(E23*(1+$G$26+$G$27)))*(1+$G$29) -> 141225.96 | K23: =IF(R23="",J23,R23*(1+L$13)) -> 0 | L23: =J23-K23 -> 141225.96 | R23: 0
B24: DIV-33 | C24: Utilities | D24: =SUMIF('BASE BID'!D:D, B24,'BASE BID'!N:N) -> 1625.0837 | E24: =SUMIF('BASE BID'!D:D, B24, 'BASE BID'!P:P) -> 6103.1292 | F24: =SUMIF('BASE BID'!D:D, B24, 'BASE BID'!Q:Q) -> 7728.2129 | G24: =F24/F$25 -> 0.040805371 | J24: =((D24*(1+$G$28))+(E24*(1+$G$26+$G$27)))*(1+$G$29) -> 9245.8543 | K24: =IF(R24="",J24,R24*(1+L$13)) -> 0 | L24: =J24-K24 -> 9245.8543 | R24: 0
C25: SUB TOTAL | D25: =SUM(D21:D24) -> 118978.69 | E25: =SUM(E21:E24) -> 70413.367 | F25: =SUM(F21:F24) -> 189392.05 | G25: =SUM(G8:G24) -> 1 | J25: =SUM(J21:J24) -> 222647.55 | K25: =SUM(K21:K24) -> 0 | L25: =SUM(L21:L24) -> 222647.55 | M25: =SUM(M21:M24) -> 0 | R25: =SUM(R21:R24) -> 0
C26: MATERIAL TAX | D26: 0 | E26: =E25*G26 -> 6266.7896 | F26: =D26+E26 -> 6266.7896 | G26: ='BASE BID'!D5 -> 0.089
C27: OVERHEAD & PROFIT / INFLATION (Material) | D27: 0 | E27: =E25*G27 -> 7041.3367 | F27: =D27+E27 -> 7041.3367 | G27: ='BASE BID'!D6 -> 0.1
C28: OVERHEAD & PROFIT (Labor) | D28: =D25*G28 -> 16657.016 | E28: 0 | F28: =D28+E28 -> 16657.016 | G28: ='BASE BID'!D7 -> 0.14
C29: Bond Fee | F29: =SUM(F25:F28)*G29 -> 3290.3579 | G29: ='BASE BID'!D8 -> 0.015
C30: TOTAL BASE BID | F30: =F25+F26+F27+F28+F29 -> 222647.55
J32: For Client's Use Only
B34: Sub-Contractor/Trade Summary for Base Bid | J34: Comparison with Sub-Quotes | M34: Enter the numbers manually
R35: Enter Subquotes below
B36: Sub Contractor | D36: Labor Cost | E36: Material Cost | F36: Total Cost | G36: % of sub-total cost | J36: Sub Contractor Cost with OH&P & Material Tax | K36: Sub-Quotes w/ OH&P | L36: Difference | M36: Finalized Bid amount by GC | N36: Remarks
B37: General Requirements | D37: =SUMIF('BASE BID'!E:E, B37, 'BASE BID'!N:N) -> 24839.246 | E37: =SUMIF('BASE BID'!E:E, B37, 'BASE BID'!P:P) -> 0 | F37: =SUMIF('BASE BID'!E:E, B37, 'BASE BID'!Q:Q) -> 24839.246 | G37: =F37/F$25 -> 0.13115253 | J37: =((D37*(1+$G$44))+(E37*(1+$G$43+$G$42)))*(1+$G$45) -> 28741.492 | K37: =IF(R37="",J37,R37*(1+L$13)) -> 0 | L37: =J37-K37 -> 28741.492 | R37: 0
B38: Earth worker | D38: =SUMIF('BASE BID'!E:E, B38, 'BASE BID'!N:N) -> 47280.269 | E38: =SUMIF('BASE BID'!E:E, B38, 'BASE BID'!P:P) -> 0 | F38: =SUMIF('BASE BID'!E:E, B38, 'BASE BID'!Q:Q) -> 47280.269 | G38: =F38/F$25 -> 0.24964231 | J38: =((D38*(1+$G$44))+(E38*(1+$G$43+$G$42)))*(1+$G$45) -> 54708 | K38: =IF(R38="",J38,R38*(1+L$13)) -> 0 | L38: =J38-K38 -> 54708 | R38: 0
B39: Site Concrete | D39: =SUMIF('BASE BID'!E:E, B39, 'BASE BID'!N:N) -> 45234.087 | E39: =SUMIF('BASE BID'!E:E, B39, 'BASE BID'!P:P) -> 64310.238 | F39: =SUMIF('BASE BID'!E:E, B39, 'BASE BID'!Q:Q) -> 109544.32 | G39: =F39/F$25 -> 0.57839979 | J39: =((D39*(1+$G$44))+(E39*(1+$G$43+$G$42)))*(1+$G$45) -> 129952.21 | K39: =IF(R39="",J39,R39*(1+L$13)) -> 0 | L39: =J39-K39 -> 129952.21 | R39: 0
B40: Utilities | D40: =SUMIF('BASE BID'!E:E, B40, 'BASE BID'!N:N) -> 1625.0837 | E40: =SUMIF('BASE BID'!E:E, B40, 'BASE BID'!P:P) -> 6103.1292 | F40: =SUMIF('BASE BID'!E:E, B40, 'BASE BID'!Q:Q) -> 7728.2129 | G40: =F40/F$25 -> 0.040805371 | J40: =((D40*(1+$G$44))+(E40*(1+$G$43+$G$42)))*(1+$G$45) -> 9245.8543 | K40: =IF(R40="",J40,R40*(1+L$13)) -> 0 | L40: =J40-K40 -> 9245.8543 | R40: 0
B41: SUB TOTAL | D41: =SUM(D37:D40) -> 118978.69 | E41: =SUM(E37:E40) -> 70413.367 | F41: =SUM(F37:F40) -> 189392.05 | G41: =SUM(G37:G40) -> 1 | J41: =SUM(J37:J40) -> 222647.55 | K41: =SUM(K37:K40) -> 0 | L41: =SUM(L37:L40) -> 222647.55 | M41: =SUM(M37:M40) -> 0 | R41: =SUM(R37:R40) -> 0
B42: MATERIAL TAX | D42: 0 | E42: =E41*G42 -> 6266.7896 | F42: =D42+E42 -> 6266.7896 | G42: =G26 -> 0.089
B43: OVERHEAD & PROFIT / INFLATION (Material) | D43: 0 | E43: =E41*G43 -> 7041.3367 | F43: =D43+E43 -> 7041.3367 | G43: =G27 -> 0.1
B44: OVERHEAD & PROFIT (Labor) | D44: =D41*G44 -> 16657.016 | E44: 0 | F44: =D44+E44 -> 16657.016 | G44: =G28 -> 0.14
B45: Bond Fee | F45: =SUM(F41:F44)*G45 -> 3290.3579 | G45: =G29 -> 0.015
B46: TOTAL BASE BID | F46: =F41+F42+F43+F44+F45 -> 222647.55

Sheet HOURLY RATES
B2: Note: Adjusting the per hour labor rate in the table below will automatically update the labor pricing for whole project. To bypass the per hour labor rate for a single item, please put the per hour labor rate against that item in column M of relative tab.
B4: Please don’t edit anything below, without the approval of the Manager (Estimating Department)
B5: CSI Div. | C5: Sub-Contractor/Trade List | D5: Hourly Rates
B6: DIV-1 | C6: General Requirements | D6: 66.11 | F6: CLICK HERE TO GO BACK TO COST SUMMARY
B7: DIV-10 | C7: Accessories | D7: 58.98
B8: DIV-09 | C8: Acoustical and Metal Ceiling | D8: 61.44
B9: DIV-11 | C9: Appliances | D9: 62.07
B10: DIV-02 | C10: Asbestos Worker | D10: 63.13
B11: DIV-10 | C11: Awnings / Canopies | D11: 63.73
B12: DIV-12 | C12: Cabinetry | D12: 58.98
B13: DIV-06 | C13: Carpenter Millwork | D13: 58.98
B14: DIV-09 | C14: Ceiling - Others | D14: 61.44
B15: DIV-07 | C15: Cladding - Metal | D15: 68.29
B16: DIV-06 | C16: Cladding - Wood | D16: 58.46
B17: DIV-06 | C17: Cladding - Other | D17: 63.38
B18: DIV-09 | C18: Clean - Power Wash | D18: 47.92
... B104: DIV-10 | C104: Wire Shelving | D104: 58.98
B105: DIV-00 | C105: Z
B106: DIV-01 | C106: Z
B115: Unit | C115: Wastage
B116: EA | C116: ='BASE BID'!D$11 -> 0
B117: LF | C117: ='BASE BID'!D$12 -> 0.05
B118: SF | C118: ='BASE BID'!D$12 -> 0.05
B119: SY | C119: ='BASE BID'!D$12 -> 0.05
B120: LBS | C120: ='BASE BID'!D$12 -> 0.05
B121: TONS | C121: ='BASE BID'!D$12 -> 0.05
B122: CY | C122: ='BASE BID'!D$12 -> 0.05
B123: LS | C123: ='BASE BID'!D$11 -> 0

Sheet Data for Rough Cost
A1: Categories | B1: Commercial | C1: Residential | D1: Type | E1: Code | F1: Default1 | G1: Default2 | H1: Default3 | I1: Default4 | J1: Default5 | K1: Default6 | L1: Default7 | M1: Default8 | N1: Default9 | O1: Default10 | P1: Default11 | Q1: Default12 | R1: Default13 | S1: Default14 | T1: Default15 | U1: Default16 | V1: Default17 | W1: Default18 | X1: Default19 | Y1: Default20 | Z1: Default21 | AA1: Default22 | AB1: Default23 | AC1: Default24 | AD1: Default25 | AE1: Default26 | AF1: Default27 | AG1: Default28 | AH1: Default29 | AI1: Default30 | AJ1: Default31 | AK1: Default32 | AL1: Default33 | AM1: Default34 | AN1: Default35 | AO1: Default36 | AP1: Default37 | AQ1: Default38 | AR1: Default39 | AS1: Default40 | AT1: Default41 | AU1: Default42 | AV1: Default43 | AW1: Default44 | AX1: Default45 | AY1: Default46 | AZ1: Default47 | BA1: Default48 | BB1: Default49 | BC1: Default50 | BD1: Default51 | BE1: Default52 | BF1: Default53 | BG1: Default54 | BH1: Default55 | BI1: Default56 | BJ1: Default57 | BK1: Default58 | BL1: Default59 | BM1: Default60 | BN1: Default61 | BO1: Default62 | BP1: Default63 | BQ1: Default64 | BR1: Default65 | BS1: Default66 | BT1: Default67 | BU1: Default68 | BV1: Default69 | BW1: Default70 | BX1: Default71 | BY1: Default72 | BZ1: Default73 | CA1: Default74 | CB1: Default75 | CC1: Default76 | CD1: Default77 | CE1: Default78 | CF1: Default79 | CG1: Default80 | CH1: Default81 | CI1: Default82 | CJ1: Default83 | CK1: Default84 | CL1: Default85 | CM1: Default86 | CN1: Default87 | CO1: Default88 | CP1: Default89 | CQ1: Default90 | CR1: Default91 | CS1: Default92 | CT1: Default93 | CU1: Default94 | CV1: Default95 | CW1: Default96 | CX1: Default97 | CY1: Default98 | CZ1: Default99 | DA1: Default100 | DB1: Default101 | DC1: Economy1 | DD1: Economy2 | DE1: Economy3 | DF1: Economy4 | DG1: Economy5 | DH1: Economy6 | DI1: Economy7 | DJ1: Economy8 | DK1: Average1 | DL1: Average2 | DM1: Average3 | DN1: Average4 | DO1: Average5 | DP1: Average6 | DQ1: Average7 | DR1: Average8 | DS1: Average9 | DT1: Average10 | DU1: Average11 | DV1: Average12 | DW1: Custom1 | DX1: Custom2 | DY1: Custom3 | DZ1: Custom4 | EA1: Custom5 | EB1: Custom6 | EC1: Custom7 | ED1: Custom8 | EE1: Custom9 | EF1: Custom10 | EG1: Luxury1 | EH1: Luxury2 | EI1: Luxury3 | EJ1: Luxury4 | EK1: Luxury5 | EL1: Luxury6 | EM1: Luxury7 | EN1: Luxury8 | EO1: Luxury9 | EP1: Luxury10
A2: Commercial | B2: Default | C2: Economy | D2: Apartment 1-3 Story | E2: Default1 | F2: Brick Veneer/Reinforced Concrete | G2: Brick Veneer/Reinforced Concrete | H2: Brick Veneer/Reinforced Concrete | I2: Brick Veneer & Concrete Block / Bearing Walls | J2: Concrete Block/Bearing Walls | K2: Face Brick & Concrete Block/Reinforced Concrete | L2: Face Brick & Concrete Block/Reinforced Concrete | M2: Concrete Block/Steel Roof Deck | N2: Decorative Concrete Block/Bearing walls | O2: Concrete Block/Bearing Walls | P2: Decorative Concrete Block/Steel Truss | Q2: Brick Veneer/Wood Frame | R2: Decorative Concrete Block/Steel Joist | S2: Brick Veneer/Reinforced Concrete | T2: Brick Veneer/Reinforced Concrete | U2: Decorative Concrete Block/Bearing walls | V2: Decorative Concrete Block/Reinforced Concrete | W2: Decorative Concrete Block/Reinforced Concrete | X2: Brick Veneer/Reinforced Concrete | Y2: Brick Veneer/ Rigid Steel | Z2: Decorative Concrete Block/Bearing walls | AA2: Face Brick & Concrete Block/Reinforced Concrete | AB2: Decorative Concrete Block/Bearing walls | AC2: Brick Veneer/ Reinforeced Concrete | AD2: Face Brick & Concrete Block/Reinforced Concrete | AE2: Face Brick & Concrete Block/Reinforced Concrete | AF2: Brick Veneer/wood Frame | AG2: Concrete Block/Bearing Wall | AH2: Face Brick & Common Brick/Reinforced Concrete | AI2: Decorative Concrete Block/Bearing walls | AJ2: Decorative Concrete Block/Bearing walls | AK2: Decorative Concrete Block/Precast Concrete | AL2: Decorative Concrete Block/Precast Concrete | AM2: Aluminum Clapboard/Wood Frame | AN2: Aluminum Clapboard/Wood Frame | AO2: Aluminum Clapboard/Wood Frame | AP2: E.I.F.S. & Concrete Block/Rigid Steel | AQ2: Cast in Place Concrete/Reinforced Concrete | AR2: Cast in Place Concrete/Steel Joists | AS2: Aluminum Clapboard/Wood Frame | AT2: Cast in Place Concrete/Reinforced Concrete | AU2: Cast in Place Concrete/Reinforced Concrete | AV2: Concrete Block/Bearing Walls | AW2: Brick Veneer/Wood Frame | AX2: Brick Veneer/Reinforced Concrete | AY2: Brick Veneer/Reinforced Concrete | AZ2: Brick Veneer/Reinforced Concrete | BA2: Cast in Place Concrete/Rigid Steel | BB2: Decorative Concrete Block/Bearing walls | BC2: Face Brick & Concrete Block/Reinforced Concrete | BD2: Face Brick & Concrete Block/Reinforced Concrete | BE2: Brick Veneer/Reinforced Concrete | BF2: Brick Veneer/Wood Truss | BG2: Brick Veneer/Reinforced Concrete | BH2: Brick Veneer/Wood Frame | BI2: Aluminum Clapboard/Wood Frame | BJ2: Aluminum Clapboard/Wood Frame | BK2: Brick Veneer/Wood Frame | BL2: Brick Veneer/Wood Frame | BM2: Conrete Block/Steel Joists | BN2: Face Brick & Concrete Block/Bearing walls | BO2: Brick Veneer/Reinforced Concrete | BP2: Brick Veneer/Wood Truss | BQ2: Brick Veneer/Reinforced Concrete | BR2: Curtain Wall/Reinforced Conrete | BS2: Brick Veneer/Reinforced Concrete | BT2: Brick Veneer/Wood Frame | BU2: Brick Veneer/Reinforced Concrete | BV2: Face Brick & Concrete Block/Reinforced Concrete | BW2: Brick Veneer/Rigid Steel | BX2: Decorative Concrete Block/Bearing walls | BY2: Decorative Concrete Block/Bearing walls | BZ2: Aluminum Clapboard/Wood Truss | CA2: Decorative Concrete Block/Bearing walls | CB2: Brick Veneer/Rigid Steel | CC2: Face Brick & Concrete Block/Steel Joists | CD2: Brick Veneer/Wood Frame | CE2: E.I.F.S./Reinforced Concrete | CF2: Fiber Cement/Rigid Steel | CG2: Brick Veneer/Reinforced Concrete | CH2: Decorative Concrete Block/Bearing walls | CI2: Brick Veneer/Reinforced Concrete | CJ2: Decorative Concrete Block/Reinforced Concrete | CK2: Brick Veneer/Reinforced Concrete | CL2: Decorative Concrete Block/Bearing walls | CM2: Decorative Concrete Block/Bearing walls | CN2: Decorative Concrete Block/Bearing walls | CO2: Face Brick/Wood Frame | CP2: Decorative Concrete Block/Reinforced Concrete | CQ2: Face Brick & Concrete Block/Reinforced Concrete | CR2: Brick Veneer/Reinforced Concrete | CS2: Brick Veneer/Reinforced Concrete | CT2: Face Brick & Concrete Block/Bearing Walls | CU2: Concrete Block/Precast Concrete | CV2: Decorative Concrete Block/Bearing walls | CW2: Brick Veneer/Wood Frame | CX2: Face Brick & Concrete Block/Reinforced Concrete | CY2: Brick Veneer/Wood Truss | CZ2: Brick Veneer/Reinforced Concrete | DA2: Concrete Block/Bearing Walls | DB2: Concrete Block/Reinforced Concrete | DC2: Brick Veneer - Wood Frame | DD2: Brick Veneer - Wood Frame | DE2: Brick Veneer - Wood Frame | DF2: Brick Veneer - Wood Frame | DG2: Brick Veneer - Wood Frame | DH2: Brick Veneer - Wood Frame | DI2: Brick Veneer - Wood Frame | DJ2: Brick Veneer - Wood Frame | DK2: Brick Veneer - Wood Frame | DL2: Brick Veneer - Wood Frame | DM2: Brick Veneer - Wood Frame | DN2: Brick Veneer - Wood Frame | DO2: Brick Veneer - Wood Frame | DP2: Brick Veneer - Wood Frame | DQ2: Brick Veneer - Wood Frame | DR2: Brick Veneer - Wood Frame | DS2: Brick Veneer - Wood Frame | DT2: Brick Veneer - Wood Frame | DU2: 6" Log - Solid Wall | DV2: 6" Log - Solid Wall | DW2: Brick Veneer - Wood Frame | DX2: Brick Veneer - Wood Frame | DY2: Brick Veneer - Wood Frame | DZ2: Brick Veneer - Wood Frame | EA2: Brick Veneer - Wood Frame | EB2: Brick Veneer - Wood Frame | EC2: Brick Veneer - Wood Frame | ED2: Brick Veneer - Wood Frame | EE2: Brick Veneer - Wood Frame | EF2: Brick Veneer - Wood Frame | EG2: Brick Veneer - Wood Frame | EH2: Brick Veneer - Wood Frame | EI2: Brick Veneer - Wood Frame | EJ2: Brick Veneer - Wood Frame | EK2: Brick Veneer - Wood Frame | EL2: Brick Veneer - Wood Frame | EM2: Brick Veneer - Wood Frame | EN2: Brick Veneer - Wood Frame | EO2: Brick Veneer - Wood Frame | EP2: Brick Veneer - Wood Frame
A3: Residential | C3: Average | D3: Apartment 4-7 Story | E3: Default2 | F3: Brick Veneer/Rigid Steel | G3: Brick Veneer/Rigid Steel | H3: Brick Veneer/Rigid Steel | I3: Brick Veneer & Concrete Block / Wood Truss | J3: Concrete Block/Rigid Steel | K3: Face Brick & Concrete Block/Rigid Steel | L3: Face Brick & Concrete Block/Rigid Steel | M3: Decorative Concrete Block/Steel Roof Deck | N3: Decorative Concrete Block/Rigid Steel | O3: Concrete Block/Rigid Steel | P3: Decorative Concrete Block/Wood Arch | Q3: Stone Ashlar & Cocnrete block/Steel Joist | R3: Decorative Concrete Block/Wood Joist | S3: Brick Veneer/Rigid Steel | T3: Brick Veneer/Rigid Steel | U3: Decorative Concrete Block/Rigid Steel | V3: Decorative Concrete Block/Rigid Steel | W3: Decorative Concrete Block/Rigid Steel | X3: Brick Veneer/Rigid Steel | Y3: Brick Veneer/ Reinforced Concrete | Z3: Decorative Concrete Block/Rigid Steel | AA3: Face Brick & Concrete Block/Rigid Steel | AB3: Decorative Concrete Block/Rigid Steel | AC3: Curtain Wall/Rigid steel | AD3: Face Brick & Concrete Block/Rigid Steel | AE3: Face Brick & Concrete Block/Rigid Steel | AF3: Decorative Concrete Block/Bearing walls | AG3: Concrete Block/Rigid Steel | AH3: Face Brick & Common Brick/Rigid Steel | AI3: Decorative Concrete Block/Steel Joist | AJ3: Decorative Concrete Block/Steel Joist | AK3: Decorative Concrete Block/Steel Joists | AL3: Decorative Concrete Block/Steel Joists | AM3: Decorative Concrete Block/Wood Joists | AN3: Brick Veneer/Wood Frame | AO3: Brick Veneer/Wood Frame | AP3: Face Brick & Concrete Block/Bearing walls | AQ3: Cast in Place Concrete/Rigid Steel | AR3: Cast in Place Concrete/Wood Joists | AS3: Face Brick & Concrete Block/Steel Joists | AT3: Concrete Block/Rigid Steel | AU3: Concrete Block/Rigid Steel | AV3: Concrete Block/Rigid Steel | AW3: Curtain Wall/Rigid steel | AX3: Curtain Wall/Rigid steel | AY3: Curtain Wall/Rigid steel | AZ3: Curtain Wall/Rigid steel | BA3: Face Brick & Concrete Block/Reinforced Concrete | BB3: Decorative Concrete Block/Rigid Steel | BC3: Face Brick & Concrete Block/Rigid Steel | BD3: Face Brick & Concrete Block/Rigid Steel | BE3: E.I.F.S./Rigid Steel | BF3: Face Brick & Concrete Block/Steel Joists | BG3: E.I.F.S./Rigid Steel | BH3: Face Brick & Concrete Block/Steel Joists | BI3: Brick Veneer/Wood Frame | BJ3: Brick Veneer/Wood Frame | BK3: Decorative Concrete Block/Precast Concrete | BL3: Decorative Concrete Block/Precast Concrete | BM3: Decorative Concrete Block/Steel Joists | BN3: Face Brick & Concrete Block/Rigid Steel | BO3: E.I.F.S./Rigid Steel | BP3: E.I.F.S. & Metal Studs/Steel Roof Deck | BQ3: Curtain Wall/Rigid Steel | BR3: Curtain Wall/Rigid Steel | BS3: E.I.F.S./Rigid Steel | BT3: Curtain Wall/Reinforced Conrete | BU3: Curtain Wall/Rigid Steel | BV3: Face Brick & Concrete Block/Rigid Steel | BW3: Brick Veneer/Wood Truss | BX3: Decorative Concrete Block/Reinforced Concrete | BY3: Decorative Concrete Block/Reinforced Concrete | BZ3: Metal Panel & Wood Studs/Wood Truss | CA3: Decorative Concrete Block/Rigid Steel | CB3: Concrete Block/Rigid Steel | CC3: Face Brick & Concrete Block/Wood Joists | CF3: Stone Veneer/Rigid Steel | CG3: E.I.F.S./Rigid Steel | CH3: Decorative Concrete Block/Rigid Steel | CI3: E.I.F.S./Rigid Steel | CJ3: Decorative Concrete Block/Rigid Steel | CK3: E.I.F.S./Rigid Steel | CL3: Decorative Concrete Block/Rigid Steel | CM3: Decorative Concrete Block/Rigid Steel | CN3: Decorative Concrete Block/Rigid Steel | CO3: Metal Sandwich Panel/Rigid Steel | CP3: Decorative Concrete Block/Steel Joists | CQ3: Face Brick & Concrete Block/Rigid Steel | CR3: E.I.F.S. & Metal Studs/Steel Joists | CS3: Curtain Wall/Rigid Steel | CT3: Face Brick & Concrete Block/Rigid Steel | CU3: Concrete Block/Wood Frame | CV3: Decorative Concrete Block/Rigid Steel | CW3: E.I.F.S./Wood Frame | CX3: Face Brick & Concrete Block/Rigid Steel | CY3: E.I.F.S./Steel Joists | CZ3: E.I.F.S./Rigid Steel | DA3: Concrete Block/Rigid Steel | DB3: Concrete Block/Rigid Steel | DC3: Painted Concrete Block | DD3: Painted Concrete Block | DE3: Painted Concrete Block | DF3: Painted Concrete Block | DG3: Painted Concrete Block | DH3: Painted Concrete Block | DI3: Painted Concrete Block | DJ3: Painted Concrete Block | DK3: Solid Masonry | DL3: Solid Masonry | DM3: Solid Masonry | DN3: Solid Masonry | DO3: Solid Masonry | DP3: Solid Masonry | DQ3: Solid Masonry | DR3: Solid Masonry | DS3: Solid Masonry | DT3: Solid Masonry | DU3: 8" Log - Solid Wall | DV3: 8" Log - Solid Wall | DW3: Solid Masonry | DX3: Solid Masonry | DY3: Solid Masonry | DZ3: Solid Masonry | EA3: Solid Masonry | EB3: Solid Masonry | EC3: Solid Masonry | ED3: Solid Masonry | EE3: Solid Masonry | EF3: Solid Masonry | EG3: Solid Brick | EH3: Solid Brick | EI3: Solid Brick | EJ3: Solid Brick | EK3: Solid Brick | EL3: Solid Brick | EM3: Solid Brick | EN3: Solid Brick | EO3: Solid Brick | EP3: Solid Brick
C4: Custom | D4: Apartment 8-24 Story | E4: Default3 | F4: E.I.F.S. & Metal studs/Rigid Steel | G4: Cuttain Wall/Rigid Steel | H4: Cuttain Wall/Rigid Steel | I4: Brick Veneer / Rigid Steel | J4: Decorative Concrete Block/Bearing Walls | K4: Limestone & Concrete Block/Reinforced Concrete | L4: Limestone & Concrete Block/Reinforced Concrete | M4: Face Brick & Concrete Block/Steel Roof Deck | N4: Face Brick & Concrete Block/Bearing walls | O4: Face Brick & Concrete Block/Bearing walls | P4: Face Brick & Concrete Block/Steel Truss | Q4: Stone Ashlar & Cocnrete block/Wood Truss | R4: Face Brick & Concrete Block/Steel Joist | S4: Cutain Wall/Rigid Steel | T4: Cutain Wall/Rigid Steel | U4: Face Brick & Concrete Block/Bearing walls | V4: Face Brick & Concrete Block/Reinforced Concrete | W4: Face Brick & Concrete Block/Reinforced Concrete | X4: Curtain Wall/Rigid Steel | Y4: Curtain wall/ Rigid Steel | Z4: Face Brick & Concrete Block/Bearing walls | AA4: Limestone & Concrete Block/Reinforced Concrete | AB4: Face Brick & Concrete Block/Bearing walls | AC4: E.I.F.S./Rigid Steel | AD4: Limestone & Concrete Block/Reinforced Concrete | AE4: Limestone & Concrete Block/Reinforced Concrete | AF4: Face Brick & Concrete Block/Steel Joist | AG4: Face Brick & Common Brick/Rigid Steel | AH4: Face Brick & Concrete Block/Reinforced Concrete | AI4: Face Brick & Concrete Block/Bearing walls | AJ4: Face Brick & Concrete Block/Bearing walls | AK4: Face Brick & Concrete Block/Precast Concrete | AL4: Face Brick & Concrete Block/Precast Concrete | AM4: Face Brick & Concrete Block/Bearing walls | AN4: Face Brick & Concrete Block/Wood Truss | AO4: Face Brick & Concrete Block/Wood Truss | AP4: Face Brick & Concrete Block/Rigid Steel | AQ4: Face Brick & Concrete Block/Precast Concrete | AR4: Concrete Block/Steel Joists | AS4: Face Brick & Concrete Block/Wood Truss | AT4: Concrete Block/Wood Arch | AU4: Concrete Block/Wood Arch | AV4: Metal Panel/Rigid Steel | AW4: E.I.F.S./Reinforced Concrete | AX4: E.I.F.S./Reinforced Concrete | AY4: E.I.F.S./Reinforced Concrete | AZ4: E.I.F.S./Reinforced Concrete | BA4: Face Brick & Concrete Block/Rigid Steel | BB4: Face Brick & Concrete Block/Bearing walls | BC4: Limestone & Concrete Block/Reinforced Concrete | BD4: Limestone & Concrete Block/Reinforced Concrete | BE4: Fiber Cement/Rigid Steel | BF4: Face Brick & Concrete Block/Wood Truss | BG4: Fiber Cement/Rigid Steel | BH4: Face Brick & Concrete Block/Wood Joists | BI4: Conrete Block/Wood Truss | BJ4: Face Brick & Concrete Block/Wood Truss | BK4: Decorative Concrete Block/Wood Joists | BL4: Decorative Concrete Block/Wood Joists | BM4: Face Brick & Concrete Block/Steel Joists | BN4: Precast Concrete/Bearing walls | BO4: Fiber Cement/Rigid Steel | BP4: Face Brick & Concrete Block/Steel Roof Deck | BQ4: E.I.F.S./Reinforced Concrete | BR4: Face Brick & Concrete Block/Reinforced Concrete | BS4: Fiber Cement/Rigid Steel | BT4: Curtain Wall/Rigid Steel | BU4: E.I.F.S./Reinforced Concrete | BV4: Limestone & Concrete Block/Reinforced Concrete | BW4: Decorative Concrete Block/Bearing walls | BX4: Face Brick & Concrete Block/Bearing Walls | BY4: Face Brick & Concrete Block/Bearing Walls | BZ4: Plywood Siding/Wood Truss | CA4: Face Brick & Concrete Block/Bearing Walls | CB4: Face Brick & Concrete Block/Bearing Walls | CC4: Limestone & Concrete Block/Steel Joists | CF4: Stucco/Reinforced Concrete | CG4: Fiber Cement/Rigid Steel | CH4: Face Brick & Concrete Block/Bearing Walls | CI4: Fiber Cement/Rigid Steel | CJ4: Face Brick & Concrete Block/Reinforced Concrete | CK4: Fiber Cement/Rigid Steel | CL4: Face Brick & Concrete Block/Bearing Walls | CM4: Face Brick & Concrete Block/Bearing Walls | CN4: Face Brick & Concrete Block/Bearing Walls | CO4: Precast Concrete/Rigid Steel | CP4: Face Brick & Concrete Block/Reinforced Concrete | CQ4: Face Brick & Metal Studs/Reinforced Concrete | CR4: Fiber Cement/Wood Frame | CS4: E.I.F.S./Rigid Steel | CT4: Metal Sandwich Panel/Rigid Steel | CU4: Face Brick & Concrete Block/Precast Concrete | CV4: Face Brick & Concrete Block/Bearing Walls | CW4: Face Brick & Concrete Block/Steel Joists | CX4: Limestone & Concrete Block/Reinforced Concrete | CY4: E.I.F.S./Wood Truss | CZ4: Metal Panel/Rigid Steel | DA4: Face Brick & Concrete Block/Bearing walls | DB4: Metal Sandwich Panel/Rigid Steel | DC4: Stucco on Wood Frame | DD4: Stucco on Wood Frame | DE4: Stucco on Wood Frame | DF4: Stucco on Wood Frame | DG4: Stucco on Wood Frame | DH4: Stucco on Wood Frame | DI4: Stucco on Wood Frame | DJ4: Stucco on Wood Frame | DK4: Stucco on Wood Frame | DL4: Stucco on Wood Frame | DM4: Stucco on Wood Frame | DN4: Stucco on Wood Frame | DO4: Stucco on Wood Frame | DP4: Stucco on Wood Frame | DQ4: Stucco on Wood Frame | DR4: Stucco on Wood Frame | DS4: Stucco on Wood Frame | DT4: Stucco on Wood Frame | DW4: Stone Veneer - Wood Frame | DX4: Stone Veneer - Wood Frame | DY4: Stone Veneer - Wood Frame | DZ4: Stone Veneer - Wood Frame | EA4: Stone Veneer - Wood Frame | EB4: Stone Veneer - Wood Frame | EC4: Stone Veneer - Wood Frame | ED4: Stone Veneer - Wood Frame | EE4: Stone Veneer - Wood Frame | EF4: Stone Veneer - Wood Frame | EG4: Solid Stone | EH4: Solid Stone | EI4: Solid Stone | EJ4: Solid Stone | EK4: Solid Stone | EL4: Solid Stone | EM4: Solid Stone | EN4: Solid Stone | EO4: Solid Stone | EP4: Solid Stone
